BEGIN:VCALENDAR
METHOD:PUBLISH
PRODID:-//doubleknot.com//CalenderEvent MIMEDIR//EN
VERSION:2.0
BEGIN:VEVENT
UID:3108310-20260429T233000Z-20260430T010000Z@doubleknot.com
CREATED:20250612T192855Z
LAST-MODIFIED:20260407T235900Z
DTSTAMP:20260422T155615Z
DTSTART:20260429T233000Z
DTEND:20260430T010000Z
LOCATION:1119 Chorro St, San Luis Obispo, CA 93401, US
CATEGORIES:SLO Program Center
DESCRIPTION:Ready to hit the road with knowledge and confidence? In this hands-on, practical badge program, Senior Girl Scouts will learn the essential skills every driver (or future driver!) should know. From reading dashboard warning lights to creating an emergency kit, Scouts will gain real-world know-how to stay safe and prepared on the road. They&rsquo;ll also explore how to budget for car ownership, understand basic maintenance, and know what to expect when visiting a mechanic. Whether they&#39;re learning for the future or already driving, this badge puts girls in the driver&rsquo;s seat&mdash;literally and figuratively. \n  \n  \n   \n  \n  \n Got GSCCC Credits? You can use your girl or troop credits to register for this program. \n  \n  \n When registering for this or any program, enter your code as a gift card (gold card with a red bow) at check out. \n  \n  \n Programs are open to currently registered Girl Scouts. Not registered yet? Join us to unlock exciting opportunities! \n  \n  \n For details on youth and adult membership, click here. \n  \n  \n Ready to renew? Follow this link. If you need help or have questions, reach out to our Customer Care team \n  \n  \n at info@girlscoutsccc.org or call 800-822-2427.  \n  \n  \n Need help registering? &iquest;Necesita ayuda para registrarse? Check Out the Doubleknot User Guide \n  \n  \n Los programas est&aacute;n abiertos a las Girl Scouts registradas. Si tiene preguntas sobre la membrec&iacute;a o necesita m&aacute;s informaci&oacute;n, comun&iacute;quese con nosotros por correo electr&oacute;nico info@girlscoutsccc.org o ll&aacute;menos al 800-822-2427. \n  \n  \n   \n 
SUMMARY:Gear Up: Car Care Badge - San Luis Obispo - Senior
PRIORITY:5
BEGIN:VALARM
TRIGGER:PT15M
ACTION:DISPLAY
DESCRIPTION:Reminder
PRIORITY:5
END:VALARM
END:VEVENT
END:VCALENDAR
