BEGIN:VCALENDAR
METHOD:PUBLISH
PRODID:-//doubleknot.com//CalenderEvent MIMEDIR//EN
VERSION:2.0
BEGIN:VEVENT
UID:3105928-20260501T230000Z-20260502T003000Z@doubleknot.com
CREATED:20250522T212943Z
LAST-MODIFIED:20251004T213455Z
DTSTAMP:20260422T155026Z
DTSTART:20260501T230000Z
DTEND:20260502T003000Z
LOCATION:1119 Chorro St, San Luis Obispo, CA 93401, US
CATEGORIES:SLO Program Center
DESCRIPTION:Girl Scouts of all ages will explore the fundamentals of coding through age-appropriate activities &mdash; from block-based coding for younger girls to basic text coding for older levels. Girls will build problem-solving skills, learn to think logically, and create their own simple programs or games. A fun introduction to computer science for every level! \n  \n  \n Got GSCCC Credits? You can use your girl or troop credits to register for this program. \n  \n  \n When registering for this or any program, enter your code as a gift card (gold card with a red bow) at check out. \n  \n  \n Programs are open to currently registered Girl Scouts. Not registered yet? Join us to unlock exciting opportunities! \n  \n  \n For details on youth and adult membership, click here. \n  \n  \n Ready to renew? Follow this link. If you need help or have questions, reach out to our Customer Care team \n  \n  \n at info@girlscoutsccc.org or call 800-822-2427.  \n  \n  \n Need help registering? &iquest;Necesita ayuda para registrarse? Check Out the Doubleknot User Guide \n  \n  \n Los programas est&aacute;n abiertos a las Girl Scouts registradas. Si tiene preguntas sobre la membrec&iacute;a o necesita m&aacute;s informaci&oacute;n, comun&iacute;quese con nosotros por correo electr&oacute;nico info@girlscoutsccc.org o ll&aacute;menos al 800-822-2427. \n  \n  \n   \n 
SUMMARY:Code Red!: Coding Basics Badge - San Luis Obispo - All Levels
PRIORITY:5
BEGIN:VALARM
TRIGGER:PT15M
ACTION:DISPLAY
DESCRIPTION:Reminder
PRIORITY:5
END:VALARM
END:VEVENT
END:VCALENDAR
